BEGIN:VCALENDAR
VERSION:2.0
PRODID:-//East End Houston - ECPv6.15.20//NONSGML v1.0//EN
CALSCALE:GREGORIAN
METHOD:PUBLISH
X-WR-CALNAME:East End Houston
X-ORIGINAL-URL:https://eastendhouston.com
X-WR-CALDESC:Events for East End Houston
REFRESH-INTERVAL;VALUE=DURATION:PT1H
X-Robots-Tag:noindex
X-PUBLISHED-TTL:PT1H
BEGIN:VTIMEZONE
TZID:America/Chicago
BEGIN:DAYLIGHT
TZOFFSETFROM:-0600
TZOFFSETTO:-0500
TZNAME:CDT
DTSTART:20230312T080000
END:DAYLIGHT
BEGIN:STANDARD
TZOFFSETFROM:-0500
TZOFFSETTO:-0600
TZNAME:CST
DTSTART:20231105T070000
END:STANDARD
BEGIN:DAYLIGHT
TZOFFSETFROM:-0600
TZOFFSETTO:-0500
TZNAME:CDT
DTSTART:20240310T080000
END:DAYLIGHT
BEGIN:STANDARD
TZOFFSETFROM:-0500
TZOFFSETTO:-0600
TZNAME:CST
DTSTART:20241103T070000
END:STANDARD
BEGIN:DAYLIGHT
TZOFFSETFROM:-0600
TZOFFSETTO:-0500
TZNAME:CDT
DTSTART:20250309T080000
END:DAYLIGHT
BEGIN:STANDARD
TZOFFSETFROM:-0500
TZOFFSETTO:-0600
TZNAME:CST
DTSTART:20251102T070000
END:STANDARD
END:VTIMEZONE
BEGIN:VEVENT
DTSTART;TZID=America/Chicago:20240425T080000
DTEND;TZID=America/Chicago:20240607T170000
DTSTAMP:20260420T201514
CREATED:20240513T193620Z
LAST-MODIFIED:20240607T215127Z
UID:218642-1714032000-1717779600@eastendhouston.com
SUMMARY:Buffalo Soldier Youth Outdoor Exploration Program
DESCRIPTION:For middle and high school students aged 11 to 17\, the Buffalo Soldiers National Museum and Texas Parks and Wildlife Department offer an exceptional outdoor exploration program at no cost.\nParticipants can enjoy camping\, hiking\, equestrian training\, golfing\, and visits to historical sites related to the Buffalo Soldiers’ service and battles in Texas. This program is designed to provide Houston youth with an exhilarating\, informative\, and challenging outdoor learning experience while instilling an appreciation for Texas’ natural and cultural resources.\nRegistration will continue through August.
URL:https://eastendhouston.com/event/buffalo-soldier-youth-outdoor-exploration-program/
LOCATION:Buffalo Soldiers National Museum\, 3816 Caroline\, Houston\, TX\, 77004\, United States
CATEGORIES:Kids + Families,Outdoors,Seasonal
ATTACH;FMTTYPE=image/jpeg:https://eastendhouston.com/wp-content/uploads/2024/05/youthprogram-1-u98yTP.tmp_.jpg
ORGANIZER;CN="Buffalo Soldiers National Museum":MAILTO:info@buffalosoldiersmuseum.org
END:VEVENT
BEGIN:VEVENT
DTSTART;TZID=America/Chicago:20240504T193000
DTEND;TZID=America/Chicago:20240615T213000
DTSTAMP:20260420T201514
CREATED:20240504T230630Z
LAST-MODIFIED:20240616T013633Z
UID:218143-1714851000-1718487000@eastendhouston.com
SUMMARY:The 90s Experience
DESCRIPTION:The Music Box Theater welcomes all music lovers to its newest production\, “The 90s Experience\,” which opens May 4 and runs through June 15.\nOur cast fondly remembers the 1990s\, years that were filled with the songs and the pop culture that helped shape the decade. Be sure to catch this show that features hits originally sung by REM\, Nirvana\, Mariah Carey\, Sting\, Annie Lennox\, Lenny Kravitz and so many more.\nIncluded in “The 90s Experience” will be songs like “Always Be My Baby” (Mariah Carey); “Round Here” (County Crows); “Ants Marching” (Dave Matthews Band); “Run Around” (Blues Traveler); “Walking on Broken Glass” (Annie Lennox); and more.\nPerformances for shows are at 7:30 p.m. Fridays and Saturdays throughout the run. There also will be a Sunday matinee at 2 p.m. on June 9\, and the theater will be dark (no performances) on May 17 and 18. Tickets for each show are $52 for reserved seating and $38 for general admission and are available online at www.themusicboxtheater.com or by calling (713) 522-7722.
URL:https://eastendhouston.com/event/the-90s-experience/
LOCATION:The Music Box Theater\, 12777 Queensbury Ln\, Houston\, TX\, United States
CATEGORIES:Blues | Jazz,Food + Wine,Music
ATTACH;FMTTYPE=image/jpeg:https://eastendhouston.com/wp-content/uploads/2024/05/picture-1a-smaller-CvfuBS.tmp_.jpg
ORGANIZER;CN="The Music Box Theater":MAILTO:tickets@themusicboxtheater.com
END:VEVENT
BEGIN:VEVENT
DTSTART;VALUE=DATE:20240529
DTEND;VALUE=DATE:20240624
DTSTAMP:20260420T201514
CREATED:20240529T200653Z
LAST-MODIFIED:20240623T232130Z
UID:219527-1716940800-1719187199@eastendhouston.com
SUMMARY:Healing Hands: Community Exhibit Call for Art Submissions
DESCRIPTION:A Collection of Caregivers’ Expressions on Mental Wellness\nHave you ever been a caregiver for a loved one or someone else’s family? Do you have artwork that tells a story of compassion\, resilience\, and self-care? If so\, we invite you to participate in our upcoming community exhibition\, Healing Hands: Caregivers’ Expressions on Mental Wellness.\nAbout Healing Hands\nHealing Hands is a community art exhibition that showcases art pieces that illuminate the mental wellness journey of caregivers\, navigating the complexities of healing\, self-care\, compassion\, and resilience—especially over the past decade. The goal of this exhibition is to expand our understanding of caregiving and how we can support caregivers’ mental wellness by showcasing the artistic talents of caregivers from various fields.\nParticipants must be ages 21 and above. Please submit your entry(s) no later than June 23\, 2024. The gallery will run from August 2024 – February 2025\, at The Health Museum.
URL:https://eastendhouston.com/event/healing-hands-community-exhibit-call-for-art-submissions/
LOCATION:The Health Museum\, 1515 Hermann Dr\, Houston\, TX\, United States
CATEGORIES:Visual Arts + Museums
ATTACH;FMTTYPE=image/png:https://eastendhouston.com/wp-content/uploads/2024/05/thm_logostacked_color-02-bhcVUt.tmp_.png
ORGANIZER;CN="The Health Museum":MAILTO:info@thehealthmuseum.org
END:VEVENT
BEGIN:VEVENT
DTSTART;TZID=America/Chicago:20240530T100000
DTEND;TZID=America/Chicago:20240603T170000
DTSTAMP:20260420T201514
CREATED:20240529T230710Z
LAST-MODIFIED:20240603T213627Z
UID:219537-1717063200-1717434000@eastendhouston.com
SUMMARY:IVO MORRISON | THE INTRODUCTION
DESCRIPTION:Please join us for the Opening Reception on May 16\, 6-9pm\nExhibition on through May 17-21\nBlue is the colour of dreams. Orange\, red and white are the colours of summertime. In ‘The Introduction’\, Ivo Morrison tells you a story about the memory of summer. But it’s not about his summers. It’s about yours. And how you remember them. And how the memory of them keeps you warm when it’s cold and dark.\nIvo Morrison\, born 1990\, is a self-taught British artist currently based in London. His work is hand drawn with shellac ink on paper. His primary ambition is to tell stories in his pictures; his work is exciting\, silly\, and a bit mysterious.\nHe has exhibited at multiple British galleries\, including with Rebecca Hossack and the British Art Portfolio\, as well as internationally\, most notably at Art Basel Miami Beach\, Art on Paper in New York\, Ink Asia in Hong Kong\, and the International Art Festival of São Paolo\, among others.
URL:https://eastendhouston.com/event/ivo-morrison-the-introduction-13/
LOCATION:Reeves Art + Design\, 2415 Taft St\, Houston\, TX\, 77006\, United States
CATEGORIES:Free Events,Visual Arts + Museums
ATTACH;FMTTYPE=image/png:https://eastendhouston.com/wp-content/uploads/2024/02/this-is-an-awesome-houston-cultural-event-gMeAZ5.tmp_.png
ORGANIZER;CN="Reeves Art + Design":MAILTO:midtownmodern@gmail.com
END:VEVENT
BEGIN:VEVENT
DTSTART;TZID=America/Chicago:20240531T100000
DTEND;TZID=America/Chicago:20240604T170000
DTSTAMP:20260420T201514
CREATED:20240531T020639Z
LAST-MODIFIED:20240604T213647Z
UID:219608-1717149600-1717520400@eastendhouston.com
SUMMARY:IVO MORRISON | THE INTRODUCTION
DESCRIPTION:Please join us for the Opening Reception on May 16\, 6-9pm\nExhibition on through May 17-21\nBlue is the colour of dreams. Orange\, red and white are the colours of summertime. In ‘The Introduction’\, Ivo Morrison tells you a story about the memory of summer. But it’s not about his summers. It’s about yours. And how you remember them. And how the memory of them keeps you warm when it’s cold and dark.\nIvo Morrison\, born 1990\, is a self-taught British artist currently based in London. His work is hand drawn with shellac ink on paper. His primary ambition is to tell stories in his pictures; his work is exciting\, silly\, and a bit mysterious.\nHe has exhibited at multiple British galleries\, including with Rebecca Hossack and the British Art Portfolio\, as well as internationally\, most notably at Art Basel Miami Beach\, Art on Paper in New York\, Ink Asia in Hong Kong\, and the International Art Festival of São Paolo\, among others.
URL:https://eastendhouston.com/event/ivo-morrison-the-introduction-14/
LOCATION:Reeves Art + Design\, 2415 Taft St\, Houston\, TX\, 77006\, United States
CATEGORIES:Free Events,Visual Arts + Museums
ATTACH;FMTTYPE=image/png:https://eastendhouston.com/wp-content/uploads/2024/02/this-is-an-awesome-houston-cultural-event-gMeAZ5.tmp_.png
ORGANIZER;CN="Reeves Art + Design":MAILTO:midtownmodern@gmail.com
END:VEVENT
BEGIN:VEVENT
DTSTART;TZID=America/Chicago:20240601T100000
DTEND;TZID=America/Chicago:20240605T170000
DTSTAMP:20260420T201514
CREATED:20240601T032124Z
LAST-MODIFIED:20240605T213653Z
UID:219688-1717236000-1717606800@eastendhouston.com
SUMMARY:IVO MORRISON | THE INTRODUCTION
DESCRIPTION:Please join us for the Opening Reception on May 16\, 6-9pm\nExhibition on through May 17-21\nBlue is the colour of dreams. Orange\, red and white are the colours of summertime. In ‘The Introduction’\, Ivo Morrison tells you a story about the memory of summer. But it’s not about his summers. It’s about yours. And how you remember them. And how the memory of them keeps you warm when it’s cold and dark.\nIvo Morrison\, born 1990\, is a self-taught British artist currently based in London. His work is hand drawn with shellac ink on paper. His primary ambition is to tell stories in his pictures; his work is exciting\, silly\, and a bit mysterious.\nHe has exhibited at multiple British galleries\, including with Rebecca Hossack and the British Art Portfolio\, as well as internationally\, most notably at Art Basel Miami Beach\, Art on Paper in New York\, Ink Asia in Hong Kong\, and the International Art Festival of São Paolo\, among others.
URL:https://eastendhouston.com/event/ivo-morrison-the-introduction-15/
LOCATION:Reeves Art + Design\, 2415 Taft St\, Houston\, TX\, 77006\, United States
CATEGORIES:Free Events,Visual Arts + Museums
ATTACH;FMTTYPE=image/png:https://eastendhouston.com/wp-content/uploads/2024/02/this-is-an-awesome-houston-cultural-event-gMeAZ5.tmp_.png
ORGANIZER;CN="Reeves Art + Design":MAILTO:midtownmodern@gmail.com
END:VEVENT
BEGIN:VEVENT
DTSTART;TZID=America/Chicago:20240602T140000
DTEND;TZID=America/Chicago:20240603T170000
DTSTAMP:20260420T201514
CREATED:20240602T040625Z
LAST-MODIFIED:20240603T213627Z
UID:219781-1717336800-1717434000@eastendhouston.com
SUMMARY:'The Selfish Giant': Puppetry Performances by Taiwan's The Puppet & Its Double Theater Presented in partnership with Taiwan Academy in Houston
DESCRIPTION:Schedule\nSaturday\, June 1\, 2024\n7 p.m. Performance\nSunday\, June 2\, 2024\n2 p.m. Performance\nIn this ingenious production by Taiwan’s The Puppet & Its Double Theater\, The Selfish Giant brings to life Oscar Wilde’s beloved story of a selfish giant who learns about the true meaning of friendship and generosity through the innocence of children. Through puppets large and small — from a tiny toy to a huge automaton of the giant — the heartwarming and timeless tale combines captivating storytelling\, enchanting visuals\, live music\, and a talented cast to create a magical experience for audiences of all ages.\nThis program will be presented in English.
URL:https://eastendhouston.com/event/the-selfish-giant-puppetry-performances-by-taiwans-the-puppet-its-double-theater-presented-in-partnership-with-taiwan-academy-in-houston-2/
LOCATION:Asia Society Texas Center\, 1370 Southmore Blvd.\, Houston\, TX\, 77004\, United States
CATEGORIES:Kids + Families,Performance Art,Special Events
ATTACH;FMTTYPE=image/jpeg:https://eastendhouston.com/wp-content/uploads/2024/06/376432475_1004305907284390_1889899147716352353_n-NMgIXJ.tmp_.jpg
ORGANIZER;CN="Asia Society Texas Center":MAILTO:txcenter@asiasociety.org
END:VEVENT
BEGIN:VEVENT
DTSTART;TZID=America/Chicago:20240603T080000
DTEND;TZID=America/Chicago:20240603T170000
DTSTAMP:20260420T201514
CREATED:20240602T230635Z
LAST-MODIFIED:20240603T213628Z
UID:219821-1717401600-1717434000@eastendhouston.com
SUMMARY:COME CELEBRATE WITH US!
DESCRIPTION:Cultural Center “Our Texas” offers its venue for public events – recitals\, corporate events\, concerts\, lectures\, and more. The Gallery can seat up to 60 people. Amenities include a/v equipment and sound system\, screen and projector\, grand piano\, stage and backstage\, chairs and tables.\nAMENITIES & DECOR\nA/V equipment and sound system\nBig Screen and projector\nBaby piano\nStage\, backstage\, and backroom\nKitchen (only for serving)\nChairs and tables\nCall us: 713-395-3301\n$250 for 4 hours
URL:https://eastendhouston.com/event/come-celebrate-with-us-13/
LOCATION:Russian Cultural Center “Our Texas”\, 2337 Bissonnet St\, Houston\, TX\, 77005\, United States
CATEGORIES:Seasonal
ATTACH;FMTTYPE=image/jpeg:https://eastendhouston.com/wp-content/uploads/2024/05/rcc-outside-VTXTuY.tmp_.jpg
ORGANIZER;CN="Cultural Center 'Our Texas'":MAILTO:Russianculturalcenter@gmail.com
END:VEVENT
BEGIN:VEVENT
DTSTART;TZID=America/Chicago:20240603T090000
DTEND;TZID=America/Chicago:20240603T170000
DTSTAMP:20260420T201514
CREATED:20240602T230634Z
LAST-MODIFIED:20240603T213628Z
UID:219817-1717405200-1717434000@eastendhouston.com
SUMMARY:What Is A Ward?
DESCRIPTION:What defines a Ward\, or in a more modern sense of the word\, a neighborhood? Sabine Street Studios is located in Houston’s historic First Ward\, meaning the first developed in Houston. As artists and creatives we all come from different backgrounds and heritages\, as does our practice. But this practice has a shared sense of personal belonging\, of representing us and ourselves. Can a neighborhood have an identity when it is made up of diverse peoples and backgrounds? Or is it just a geographic definition\, delineated by streets and bayous?\nFor this tenant exhibition\, artists were asked: “How does your Ward fit within your studio practice? Is the idea of “home” something which inspires you creatively\, or a place of rest and comfort?” The exhibition is on view in the South Gallery through July 14.
URL:https://eastendhouston.com/event/what-is-a-ward-19/
LOCATION:Sabine Street Studios\, 1907 Sabine Street Studios\, Houston\, TX\, 77007\, United States
CATEGORIES:Free Events,Visual Arts + Museums
ATTACH;FMTTYPE=image/jpeg:https://eastendhouston.com/wp-content/uploads/2024/05/sabine-ward_jpg-NOxIfl.tmp_.jpg
ORGANIZER;CN="Sawyer Yards Houston":MAILTO:events@sawyeryards.com
END:VEVENT
BEGIN:VEVENT
DTSTART;TZID=America/Chicago:20240603T100000
DTEND;TZID=America/Chicago:20240603T160000
DTSTAMP:20260420T201514
CREATED:20240602T230635Z
LAST-MODIFIED:20240603T203659Z
UID:219819-1717408800-1717430400@eastendhouston.com
SUMMARY:"Resilience Rising: Navigating Earth’s Challenges"
DESCRIPTION:“Resilience Rising: Navigating Earth’s Challenges” is a thought-provoking art exhibition that delves into the urgent need for awareness and preparedness in the face of environmental risks. Through various artistic mediums\, the project confronts issues such as the climate crisis\, flooding\, food deserts\, hurricanes and tropical storms\, environmental justice\, and electricity disruption. The exhibition aims to spark a dialogue on the profound impact of these challenges on our planet and communities\, while also highlighting the resilience and collective efforts required to overcome them. By immersing visitors in immersive installations\, visual artworks\, and interactive experiences\, this project shapes sustainable and resilient future.
URL:https://eastendhouston.com/event/resilience-rising-navigating-earths-challenges-68/
LOCATION:Julia Hester Community Center\, 2020 Solo Street\, Houston\, TX\, 77020\, United States
CATEGORIES:Visual Arts + Museums
ATTACH;FMTTYPE=image/jpeg:https://eastendhouston.com/wp-content/uploads/2024/03/screenshot_20240305_231505_gallery-Crg6vj.tmp_.jpg
ORGANIZER;CN="Julia Hester Community Center":MAILTO:media@jcmatthewm112.sg-host.com
END:VEVENT
BEGIN:VEVENT
DTSTART;TZID=America/Chicago:20240603T100000
DTEND;TZID=America/Chicago:20240607T170000
DTSTAMP:20260420T201514
CREATED:20240602T230635Z
LAST-MODIFIED:20240607T215200Z
UID:219818-1717408800-1717779600@eastendhouston.com
SUMMARY:IVO MORRISON | THE INTRODUCTION
DESCRIPTION:Please join us for the Opening Reception on May 16\, 6-9pm\nExhibition on through May 17-21\nBlue is the colour of dreams. Orange\, red and white are the colours of summertime. In ‘The Introduction’\, Ivo Morrison tells you a story about the memory of summer. But it’s not about his summers. It’s about yours. And how you remember them. And how the memory of them keeps you warm when it’s cold and dark.\nIvo Morrison\, born 1990\, is a self-taught British artist currently based in London. His work is hand drawn with shellac ink on paper. His primary ambition is to tell stories in his pictures; his work is exciting\, silly\, and a bit mysterious.\nHe has exhibited at multiple British galleries\, including with Rebecca Hossack and the British Art Portfolio\, as well as internationally\, most notably at Art Basel Miami Beach\, Art on Paper in New York\, Ink Asia in Hong Kong\, and the International Art Festival of São Paolo\, among others.
URL:https://eastendhouston.com/event/ivo-morrison-the-introduction-16/
LOCATION:Reeves Art + Design\, 2415 Taft St\, Houston\, TX\, 77006\, United States
CATEGORIES:Free Events,Visual Arts + Museums
ATTACH;FMTTYPE=image/png:https://eastendhouston.com/wp-content/uploads/2024/02/this-is-an-awesome-houston-cultural-event-gMeAZ5.tmp_.png
ORGANIZER;CN="Reeves Art + Design":MAILTO:midtownmodern@gmail.com
END:VEVENT
BEGIN:VEVENT
DTSTART;TZID=America/Chicago:20240603T120000
DTEND;TZID=America/Chicago:20240603T170000
DTSTAMP:20260420T201514
CREATED:20240602T230635Z
LAST-MODIFIED:20240603T213628Z
UID:219820-1717416000-1717434000@eastendhouston.com
SUMMARY:Unearthing: Black Porosity – Open Studio Hours
DESCRIPTION:Unearthing: Black Porosities by artist-in-residence Rian Crane (he/they) will be open for public viewing in tandem with Sawyer Yards’ Second Saturdays!\nUnearthing: Black Porosity is an amalgamation of works exploring the ongoing lasting legacies\, histories\, and current relations of Black +/ Indigenous lifeways in the gulf south/ global south. Engaging writings from Black/ Caribbean scholars like the “The Black Shoals”\, by Tiffany Lethabo King and Glissant’s “Poetics of Relations\,” Imageries of Black life physically antithesis Blackness and colonial enclosure: Indigeneity and extraction: land and water relations. Unearthing: Black Porosities materializes as performance\, sculpture\, cyanotype\, soundscapes\, and cinema.
URL:https://eastendhouston.com/event/unearthing-black-porosity-open-studio-hours-22/
LOCATION:MEIVE – Gallery & Studio\, 1520 Center St #1\, Houston\, TX\, 77007\, United States
CATEGORIES:Free Events,Visual Arts + Museums
ATTACH;FMTTYPE=image/png:https://eastendhouston.com/wp-content/uploads/2024/02/this-is-an-awesome-houston-cultural-event-gMeAZ5.tmp_.png
ORGANIZER;CN="Fresh Arts":MAILTO:marketing@fresharts.org
END:VEVENT
BEGIN:VEVENT
DTSTART;TZID=America/Chicago:20240603T183000
DTEND;TZID=America/Chicago:20240603T203000
DTSTAMP:20260420T201514
CREATED:20240602T230636Z
LAST-MODIFIED:20240604T003634Z
UID:219822-1717439400-1717446600@eastendhouston.com
SUMMARY:Italian for Beginners – A1S1 (Online)
DESCRIPTION:No Italian? No problem! In our online Italian for Beginners – A1S1 class\, you will learn everyday words and phrases to help you speak Italian with confidence. Our dedicated Italian teachers will help you establish strong foundations in the Italian language\, focusing on proper pronunciation\, basic grammar\, and useful vocabulary. Learn Italian quickly and join our wonderful community here at the Italian Language School.\nDates: Mondays\, June 3 through July 15\nTime: 6:30 to 8:30 p.m.\nL ocation: Online via Zoom\nPrice: $202.50 ICCC Members | $225 General Admission\nCancellation Policy: Due to high demand for courses\, tuition is non-refundable. We offer tuition credit toward a future group class if you cancel 48 hours in advance of the start of the first class. Tuition credit is valid for six months from the date issued. If you cancel less than 48 hours in advance\, your tuition payment will be converted into a tax-deductible donation to the Italian Cultural & Community Center. No credits or refunds will be given to students who miss a portion of the class. To cancel your reservation\, email us at School@iccchouston.com.\nNote: It takes about a year to go from a complete beginner level to an intermediate level. Our Italian for Beginners course is part of a series designed to reach the intermediate level in seven\, seven-week sessions for a total of 49 weeks instruction. Be sure to sign up for our newsletter to be the first to know about future classes and events!\nThis language course is funded in part by the City of Houston through Houston Arts Alliance.
URL:https://eastendhouston.com/event/italian-for-beginners-a1s1-online-2/
LOCATION:Italian Cultural Center – Milford House\, 1101 Milford Street\, Houston\, TX\, 77006\, United States
CATEGORIES:Classes + Workshops
ATTACH;FMTTYPE=image/jpeg:https://eastendhouston.com/wp-content/uploads/2024/06/italian-for-beginners-eblast-01-YMgV9Y.tmp_.jpg
ORGANIZER;CN="Italian Cultural &amp%3B Community Center":MAILTO:info@iccchouston.com
END:VEVENT
BEGIN:VEVENT
DTSTART;TZID=America/Chicago:20240603T190000
DTEND;TZID=America/Chicago:20240603T213000
DTSTAMP:20260420T201514
CREATED:20240602T230649Z
LAST-MODIFIED:20240604T013623Z
UID:219824-1717441200-1717450200@eastendhouston.com
SUMMARY:Beyond Broadway Series: Alan Cumming Is Not Acting His Age
DESCRIPTION:In Alan Cumming Is Not Acting His Age\, he covers all the bases: sex\, death and bacchanalia\, with a set list as eclectic as the man himself. Songs from Cabaret authors Kander and Ebb blend with contemporary favourites and even a self-penned paean against plastic surgery. ‘I am literally the only person on American TV who has not had botox!’ he quips. He also discusses the effects of gravity\, the time the mum from the Brady Bunch punched him\, and what his dog taught him about the quality of life.
URL:https://eastendhouston.com/event/beyond-broadway-series-alan-cumming-is-not-acting-his-age-66/
LOCATION:Hobby Center – Zilkha Hall\, 800 Bagby\, Houston\, TX\, 77002\, United States
CATEGORIES:Performance Art,Theatre + Comedy
ATTACH;FMTTYPE=image/jpeg:https://eastendhouston.com/wp-content/uploads/2024/03/beetlejuice-300x200-2-hO8Ff3.tmp_.jpg
END:VEVENT
BEGIN:VEVENT
DTSTART;TZID=America/Chicago:20240603T193000
DTEND;TZID=America/Chicago:20240603T220000
DTSTAMP:20260420T201514
CREATED:20240602T230649Z
LAST-MODIFIED:20240604T023653Z
UID:219825-1717443000-1717452000@eastendhouston.com
SUMMARY:Beetlejuice
DESCRIPTION:He earned his stripes on Broadway… now the ghost-with-the-most is coming to Austin.\nIt’s showtime! Based on Tim Burton’s dearly beloved film\, this hilarious musical tells the story of Lydia Deetz\, a strange and unusual teenager whose whole life changes when she meets a recently deceased couple and a demon with a thing for stripes. With an irreverent book\, an astonishing set\, and a score that’s out of this Netherworld\, BEETLEJUICE is “SCREAMINGLY GOOD FUN!” (Variety). And under its uproarious surface (six feet under\, to be exact)\, it’s a remarkably touching show about family\, love\, and making the most of every Day-O!\nBeetlejuice contains strong language\, mature references\, and a lot of the crazy\, inappropriate stuff you would expect from a deranged demon. Recommended for ages 13 and up.\nPresented by the Memorial Hermann Broadway at the Hobby Center
URL:https://eastendhouston.com/event/beetlejuice-65/
LOCATION:Hobby Center for the Performing Arts\, 800 Bagby Street\, Houston\, TX\, 77002\, United States
CATEGORIES:Broadway | Standards,Music,Performance Art,Theatre + Comedy
ATTACH;FMTTYPE=image/jpeg:https://eastendhouston.com/wp-content/uploads/2024/03/beetlejuice-300x200-1-zdUPfe.tmp_.jpg
END:VEVENT
END:VCALENDAR