BEGIN:VCALENDAR
VERSION:2.0
PRODID:-//East End Houston - ECPv6.15.20//NONSGML v1.0//EN
CALSCALE:GREGORIAN
METHOD:PUBLISH
X-ORIGINAL-URL:https://eastendhouston.com
X-WR-CALDESC:Events for East End Houston
REFRESH-INTERVAL;VALUE=DURATION:PT1H
X-Robots-Tag:noindex
X-PUBLISHED-TTL:PT1H
BEGIN:VTIMEZONE
TZID:America/Chicago
BEGIN:DAYLIGHT
TZOFFSETFROM:-0600
TZOFFSETTO:-0500
TZNAME:CDT
DTSTART:20250309T080000
END:DAYLIGHT
BEGIN:STANDARD
TZOFFSETFROM:-0500
TZOFFSETTO:-0600
TZNAME:CST
DTSTART:20251102T070000
END:STANDARD
BEGIN:DAYLIGHT
TZOFFSETFROM:-0600
TZOFFSETTO:-0500
TZNAME:CDT
DTSTART:20260308T080000
END:DAYLIGHT
BEGIN:STANDARD
TZOFFSETFROM:-0500
TZOFFSETTO:-0600
TZNAME:CST
DTSTART:20261101T070000
END:STANDARD
BEGIN:DAYLIGHT
TZOFFSETFROM:-0600
TZOFFSETTO:-0500
TZNAME:CDT
DTSTART:20270314T080000
END:DAYLIGHT
BEGIN:STANDARD
TZOFFSETFROM:-0500
TZOFFSETTO:-0600
TZNAME:CST
DTSTART:20271107T070000
END:STANDARD
END:VTIMEZONE
BEGIN:VEVENT
DTSTART;TZID=America/Chicago:20260404T173000
DTEND;TZID=America/Chicago:20260503T170000
DTSTAMP:20260420T182558
CREATED:20260310T162127Z
LAST-MODIFIED:20260409T190625Z
UID:238008-1775323800-1777827600@eastendhouston.com
SUMMARY:Do Not Follow My Way. Solo art exhibition
DESCRIPTION:Do Not Follow My Way is a solo exhibition by artist Aime Rosales that traces her artistic trajectory from graduation to the present. Bringing together three series of paintings and an installation\, the exhibition reflects the evolution of her visual language and creative process over time.\nBy presenting early works alongside more recent pieces\, the exhibition highlights growth\, transformation\, and the non-linear nature of artistic development. Rather than proposing a single path or method\, Do Not Follow My Way invites viewers to engage with art as an ongoing process shaped by experimentation\, change\, and lived experience.
URL:https://eastendhouston.com/event/do-not-follow-my-way-solo-art-exhibition/
LOCATION:TBH Center (Talento Bilingüe de Houston)\, 333 S Jensen Dr\, Houston\, TX\, United States
CATEGORIES:Visual Arts + Museums
ATTACH;FMTTYPE=image/jpeg:https://eastendhouston.com/wp-content/uploads/2026/03/poster-expo-do-not-follow-my-way-TaR0oc.jpg
ORGANIZER;CN="Multicultural Education and Counseling through the Arts (MECA)":MAILTO:info@meca-houston.org
END:VEVENT
BEGIN:VEVENT
DTSTART;TZID=America/Chicago:20260416T180000
DTEND;TZID=America/Chicago:20260510T180000
DTSTAMP:20260420T182558
CREATED:20260413T180648Z
LAST-MODIFIED:20260420T182213Z
UID:238872-1776362400-1778436000@eastendhouston.com
SUMMARY:Do Not Follow My Way. Solo art exhibition
DESCRIPTION:Do Not Follow My Way is a solo exhibition by artist Aime Rosales that traces her artistic trajectory from graduation to the present. Bringing together three series of paintings and an installation\, the exhibition reflects the evolution of her visual language and creative process over time.\nBy presenting early works alongside more recent pieces\, the exhibition highlights growth\, transformation\, and the non-linear nature of artistic development. Rather than proposing a single path or method\, Do Not Follow My Way invites viewers to engage with art as an ongoing process shaped by experimentation\, change\, and lived experience.
URL:https://eastendhouston.com/event/do-not-follow-my-way-solo-art-exhibition-2/
LOCATION:TBH Center (Talento Bilingüe de Houston)\, 333 S Jensen Dr\, Houston\, TX\, United States
CATEGORIES:Visual Arts + Museums
ATTACH;FMTTYPE=image/jpeg:https://eastendhouston.com/wp-content/uploads/2026/04/poster-final-wuGVtE.jpg
ORGANIZER;CN="Multicultural Education and Counseling through the Arts (MECA)":MAILTO:info@meca-houston.org
END:VEVENT
BEGIN:VEVENT
DTSTART;TZID=America/Chicago:20260419T183000
DTEND;TZID=America/Chicago:20260419T193000
DTSTAMP:20260420T182558
CREATED:20260227T232144Z
LAST-MODIFIED:20260420T000631Z
UID:237753-1776623400-1776627000@eastendhouston.com
SUMMARY:La casa de la abuela
DESCRIPTION:La casa de la abuela is an interdisciplinary performance that reimagines one of the most recognizable cultural spaces in Latino life\, the grandmother’s home\, as a site of memory\, identity\, and belonging. The program blends traditional Hispanic folk music reinterpreted by classical singers (Fernando Grimaldo and Luisana Rivas)\, original scenes inspired by the heightened drama of telenovelas\, and an exhibition of paintings by local artists. These elements converge to create an immersive environment that evokes nostalgia while inviting audiences to reflect on the themes of affection\, grief\, humor\, and faith. This trip down memory lane serves as a reminder for the next generation as well as creates a modern cultural experience that honors tradition\, community\, and connection.\nApril 19th at 6:30PM at Talento Bilingue Houston. Free Admission; $10 Suggested Donation
URL:https://eastendhouston.com/event/la-casa-de-abuela/
LOCATION:TBH Center (Talento Bilingüe de Houston)\, 333 S Jensen Dr\, Houston\, TX\, United States
CATEGORIES:Classical,Dance | Latin | Urban,Free Events,Music,Special Events
ATTACH;FMTTYPE=image/jpeg:https://eastendhouston.com/wp-content/uploads/2026/04/la-casa-de-la-abuela-uOIIra.jpg
ORGANIZER;CN="PONCE PROJECT MUSIC FOUNDATION":MAILTO:info@4thwalltheatreco.com
END:VEVENT
END:VCALENDAR