BEGIN:VCALENDAR
VERSION:2.0
PRODID:-//East End Houston - ECPv6.15.20//NONSGML v1.0//EN
CALSCALE:GREGORIAN
METHOD:PUBLISH
X-ORIGINAL-URL:https://eastendhouston.com
X-WR-CALDESC:Events for East End Houston
REFRESH-INTERVAL;VALUE=DURATION:PT1H
X-Robots-Tag:noindex
X-PUBLISHED-TTL:PT1H
BEGIN:VTIMEZONE
TZID:America/Chicago
BEGIN:DAYLIGHT
TZOFFSETFROM:-0600
TZOFFSETTO:-0500
TZNAME:CDT
DTSTART:20250309T080000
END:DAYLIGHT
BEGIN:STANDARD
TZOFFSETFROM:-0500
TZOFFSETTO:-0600
TZNAME:CST
DTSTART:20251102T070000
END:STANDARD
BEGIN:DAYLIGHT
TZOFFSETFROM:-0600
TZOFFSETTO:-0500
TZNAME:CDT
DTSTART:20260308T080000
END:DAYLIGHT
BEGIN:STANDARD
TZOFFSETFROM:-0500
TZOFFSETTO:-0600
TZNAME:CST
DTSTART:20261101T070000
END:STANDARD
BEGIN:DAYLIGHT
TZOFFSETFROM:-0600
TZOFFSETTO:-0500
TZNAME:CDT
DTSTART:20270314T080000
END:DAYLIGHT
BEGIN:STANDARD
TZOFFSETFROM:-0500
TZOFFSETTO:-0600
TZNAME:CST
DTSTART:20271107T070000
END:STANDARD
END:VTIMEZONE
BEGIN:VEVENT
DTSTART;TZID=America/Chicago:20260509T190000
DTEND;TZID=America/Chicago:20260509T210000
DTSTAMP:20260421T011523
CREATED:20260324T222205Z
LAST-MODIFIED:20260421T003706Z
UID:238375-1778353200-1778360400@eastendhouston.com
SUMMARY:BOX 13 Announces Annual “EMPTY BOX” Silent Auction and Fundraiser on May 9\, 2026
DESCRIPTION:BOX 13 Announces Annual “EMPTY BOX: Class of 2026” Silent Auction and Fundraiser on May 9\, 2026\nCelebrating 18 Years of Supporting Houston’s Art Community — Class of 2026\nBOX 13 ArtSpace invites you to its annual Silent Auction and Fundraiser on Saturday\, May 9\, 2026\, at 7:00 PM\, celebrating 18 years as a vital\, experimental force in Houston’s art community. Like any graduating class\, this milestone marks a moment of reflection\, recognition\, and looking forward to what’s next.\nFounded in 2008\, BOX 13 ArtSpace has grown into a collaborative hub for contemporary art\, supporting artists at every stage. With over 40 exhibitions annually\, BOX 13 continues to foster bold ideas and provide a platform for local\, national\, and international voices.\nThis year’s “Empty BOX” Silent Auction leans into the spirit of graduation\, honoring the artists and community that brought us here while investing in the next generation. The evening features artwork donated by artists from Houston and beyond\, alongside the Poor Man’s Raffle showcasing work from current BOX 13 artists.\nBecome a Sponsor \, Enroll Early\nBefore the big night\, we invite you to “join the class” by becoming a sponsor. Early support helps ensure this year’s fundraiser crosses the stage with distinction\, while offering you exclusive artwork\, experiences\, and recognition.
URL:https://eastendhouston.com/event/box-13-announces-annual-empty-box-silent-auction-and-fundraiser-on-may-9-2026/
LOCATION:Box 13 ArtSpace\, 6700 Harrisburg Blvd\, Houston\, TX\, United States
CATEGORIES:Experimental,Free Events,Fundraisers + Galas,Visual Arts + Museums
ATTACH;FMTTYPE=image/jpeg:https://eastendhouston.com/wp-content/uploads/2026/03/small-oORAIt.jpg
ORGANIZER;CN="BOX 13 ArtSpace":MAILTO:box13artspace@gmail.com
END:VEVENT
BEGIN:VEVENT
DTSTART;TZID=America/Chicago:20260522T130000
DTEND;TZID=America/Chicago:20260522T170000
DTSTAMP:20260421T011523
CREATED:20260420T172138Z
LAST-MODIFIED:20260421T003706Z
UID:239043-1779454800-1779469200@eastendhouston.com
SUMMARY:May 22-  June 27\, 2026 Exhibitions
DESCRIPTION:BOX 13 ArtSpace is pleased to present four new exhibitions opening Friday\, May 22\, 2026 6–9 PM.\nBOX 13 ArtSpace is pleased to present in the Front BOX gallery we show “Scaff(Holding)” by Jordan Vinyard transforms Box 13 Artspace into an absurd choreography of labor hierarchies. Vinyard dissects and sutures through works that are as repulsive as they are endearing. The exhibit in the Back gallery at BOX 13 ArtSpace features “Last Night and Tomorrow” is an exhibit of multi-media prints and installation by Gaby Hurtado-Ramos in the Back BOX gallery. Through layered drawings\, photographs\, and prints\, Hurtado-Ramos explores the multiple outcomes possible in both the physical print process and in scenes of hopefulness longing for a future with a dance floor. In our Window BOX gallery Dario Salvatore Bucheli presents a site-specific painting titled “Transformation Cycle”. The work follows the snake’s mythic journey\, inviting viewers to consider cycles of change\, surrender\, and renewal within their own lives. Moving to our Upstairs BOX gallery we are excited to introduce “Do You Have Papers?” laments those loved and overlooked by systems that fail to value them as people with collecting and mixed-media craft. This exhibition uses archiving as an act of resilience and appreciates immigrant clutter by devoting space to the remnants that illustrate their shared experiences.\nThe exhibitions continue through June 27\,\, 2026. An Opening Reception will be held on Friday May 22\, 2026 6–9 PM at BOX 13 ArtSpace\, 6700 Harrisburg\, Houston\, TX 77011.\nThis event is funded in part by the City of Houston through the Houston Arts Alliance and Houston MOCA. Additional support is provided by The Brown Foundation\, Saint Arnold Brewing Company\, Giant Texas Distillers\, JP Morgan – Nancy O’Connor Fund\, and all who help make our programming possible.
URL:https://eastendhouston.com/event/may-22-june-27-2026-exhibitions/
LOCATION:Box 13 ArtSpace\, 6700 Harrisburg Blvd\, Houston\, TX\, United States
CATEGORIES:Experimental,Free Events,Visual Arts + Museums
ATTACH;FMTTYPE=image/png:https://eastendhouston.com/wp-content/uploads/2024/02/this-is-an-awesome-houston-cultural-event-gMeAZ5.tmp_.png
ORGANIZER;CN="BOX 13 ArtSpace":MAILTO:box13artspace@gmail.com
END:VEVENT
BEGIN:VEVENT
DTSTART;TZID=America/Chicago:20260523T130000
DTEND;TZID=America/Chicago:20260523T170000
DTSTAMP:20260421T011523
CREATED:20260420T172139Z
LAST-MODIFIED:20260421T003706Z
UID:239044-1779541200-1779555600@eastendhouston.com
SUMMARY:May 22-  June 27\, 2026 Exhibitions
DESCRIPTION:BOX 13 ArtSpace is pleased to present four new exhibitions opening Friday\, May 22\, 2026 6–9 PM.\nBOX 13 ArtSpace is pleased to present in the Front BOX gallery we show “Scaff(Holding)” by Jordan Vinyard transforms Box 13 Artspace into an absurd choreography of labor hierarchies. Vinyard dissects and sutures through works that are as repulsive as they are endearing. The exhibit in the Back gallery at BOX 13 ArtSpace features “Last Night and Tomorrow” is an exhibit of multi-media prints and installation by Gaby Hurtado-Ramos in the Back BOX gallery. Through layered drawings\, photographs\, and prints\, Hurtado-Ramos explores the multiple outcomes possible in both the physical print process and in scenes of hopefulness longing for a future with a dance floor. In our Window BOX gallery Dario Salvatore Bucheli presents a site-specific painting titled “Transformation Cycle”. The work follows the snake’s mythic journey\, inviting viewers to consider cycles of change\, surrender\, and renewal within their own lives. Moving to our Upstairs BOX gallery we are excited to introduce “Do You Have Papers?” laments those loved and overlooked by systems that fail to value them as people with collecting and mixed-media craft. This exhibition uses archiving as an act of resilience and appreciates immigrant clutter by devoting space to the remnants that illustrate their shared experiences.\nThe exhibitions continue through June 27\,\, 2026. An Opening Reception will be held on Friday May 22\, 2026 6–9 PM at BOX 13 ArtSpace\, 6700 Harrisburg\, Houston\, TX 77011.\nThis event is funded in part by the City of Houston through the Houston Arts Alliance and Houston MOCA. Additional support is provided by The Brown Foundation\, Saint Arnold Brewing Company\, Giant Texas Distillers\, JP Morgan – Nancy O’Connor Fund\, and all who help make our programming possible.
URL:https://eastendhouston.com/event/may-22-june-27-2026-exhibitions-2/
LOCATION:Box 13 ArtSpace\, 6700 Harrisburg Blvd\, Houston\, TX\, United States
CATEGORIES:Experimental,Free Events,Visual Arts + Museums
ATTACH;FMTTYPE=image/png:https://eastendhouston.com/wp-content/uploads/2024/02/this-is-an-awesome-houston-cultural-event-gMeAZ5.tmp_.png
ORGANIZER;CN="BOX 13 ArtSpace":MAILTO:box13artspace@gmail.com
END:VEVENT
BEGIN:VEVENT
DTSTART;TZID=America/Chicago:20260529T130000
DTEND;TZID=America/Chicago:20260529T170000
DTSTAMP:20260421T011523
CREATED:20260420T172139Z
LAST-MODIFIED:20260421T003706Z
UID:239045-1780059600-1780074000@eastendhouston.com
SUMMARY:May 22-  June 27\, 2026 Exhibitions
DESCRIPTION:BOX 13 ArtSpace is pleased to present four new exhibitions opening Friday\, May 22\, 2026 6–9 PM.\nBOX 13 ArtSpace is pleased to present in the Front BOX gallery we show “Scaff(Holding)” by Jordan Vinyard transforms Box 13 Artspace into an absurd choreography of labor hierarchies. Vinyard dissects and sutures through works that are as repulsive as they are endearing. The exhibit in the Back gallery at BOX 13 ArtSpace features “Last Night and Tomorrow” is an exhibit of multi-media prints and installation by Gaby Hurtado-Ramos in the Back BOX gallery. Through layered drawings\, photographs\, and prints\, Hurtado-Ramos explores the multiple outcomes possible in both the physical print process and in scenes of hopefulness longing for a future with a dance floor. In our Window BOX gallery Dario Salvatore Bucheli presents a site-specific painting titled “Transformation Cycle”. The work follows the snake’s mythic journey\, inviting viewers to consider cycles of change\, surrender\, and renewal within their own lives. Moving to our Upstairs BOX gallery we are excited to introduce “Do You Have Papers?” laments those loved and overlooked by systems that fail to value them as people with collecting and mixed-media craft. This exhibition uses archiving as an act of resilience and appreciates immigrant clutter by devoting space to the remnants that illustrate their shared experiences.\nThe exhibitions continue through June 27\,\, 2026. An Opening Reception will be held on Friday May 22\, 2026 6–9 PM at BOX 13 ArtSpace\, 6700 Harrisburg\, Houston\, TX 77011.\nThis event is funded in part by the City of Houston through the Houston Arts Alliance and Houston MOCA. Additional support is provided by The Brown Foundation\, Saint Arnold Brewing Company\, Giant Texas Distillers\, JP Morgan – Nancy O’Connor Fund\, and all who help make our programming possible.
URL:https://eastendhouston.com/event/may-22-june-27-2026-exhibitions-3/
LOCATION:Box 13 ArtSpace\, 6700 Harrisburg Blvd\, Houston\, TX\, United States
CATEGORIES:Experimental,Free Events,Visual Arts + Museums
ATTACH;FMTTYPE=image/png:https://eastendhouston.com/wp-content/uploads/2024/02/this-is-an-awesome-houston-cultural-event-gMeAZ5.tmp_.png
ORGANIZER;CN="BOX 13 ArtSpace":MAILTO:box13artspace@gmail.com
END:VEVENT
BEGIN:VEVENT
DTSTART;TZID=America/Chicago:20260530T130000
DTEND;TZID=America/Chicago:20260530T170000
DTSTAMP:20260421T011523
CREATED:20260420T172139Z
LAST-MODIFIED:20260421T003706Z
UID:239046-1780146000-1780160400@eastendhouston.com
SUMMARY:May 22-  June 27\, 2026 Exhibitions
DESCRIPTION:BOX 13 ArtSpace is pleased to present four new exhibitions opening Friday\, May 22\, 2026 6–9 PM.\nBOX 13 ArtSpace is pleased to present in the Front BOX gallery we show “Scaff(Holding)” by Jordan Vinyard transforms Box 13 Artspace into an absurd choreography of labor hierarchies. Vinyard dissects and sutures through works that are as repulsive as they are endearing. The exhibit in the Back gallery at BOX 13 ArtSpace features “Last Night and Tomorrow” is an exhibit of multi-media prints and installation by Gaby Hurtado-Ramos in the Back BOX gallery. Through layered drawings\, photographs\, and prints\, Hurtado-Ramos explores the multiple outcomes possible in both the physical print process and in scenes of hopefulness longing for a future with a dance floor. In our Window BOX gallery Dario Salvatore Bucheli presents a site-specific painting titled “Transformation Cycle”. The work follows the snake’s mythic journey\, inviting viewers to consider cycles of change\, surrender\, and renewal within their own lives. Moving to our Upstairs BOX gallery we are excited to introduce “Do You Have Papers?” laments those loved and overlooked by systems that fail to value them as people with collecting and mixed-media craft. This exhibition uses archiving as an act of resilience and appreciates immigrant clutter by devoting space to the remnants that illustrate their shared experiences.\nThe exhibitions continue through June 27\,\, 2026. An Opening Reception will be held on Friday May 22\, 2026 6–9 PM at BOX 13 ArtSpace\, 6700 Harrisburg\, Houston\, TX 77011.\nThis event is funded in part by the City of Houston through the Houston Arts Alliance and Houston MOCA. Additional support is provided by The Brown Foundation\, Saint Arnold Brewing Company\, Giant Texas Distillers\, JP Morgan – Nancy O’Connor Fund\, and all who help make our programming possible.
URL:https://eastendhouston.com/event/may-22-june-27-2026-exhibitions-4/
LOCATION:Box 13 ArtSpace\, 6700 Harrisburg Blvd\, Houston\, TX\, United States
CATEGORIES:Experimental,Free Events,Visual Arts + Museums
ATTACH;FMTTYPE=image/png:https://eastendhouston.com/wp-content/uploads/2024/02/this-is-an-awesome-houston-cultural-event-gMeAZ5.tmp_.png
ORGANIZER;CN="BOX 13 ArtSpace":MAILTO:box13artspace@gmail.com
END:VEVENT
END:VCALENDAR