BEGIN:VCALENDAR
VERSION:2.0
PRODID:-//East End Houston - ECPv6.15.20//NONSGML v1.0//EN
CALSCALE:GREGORIAN
METHOD:PUBLISH
X-WR-CALNAME:East End Houston
X-ORIGINAL-URL:https://eastendhouston.com
X-WR-CALDESC:Events for East End Houston
REFRESH-INTERVAL;VALUE=DURATION:PT1H
X-Robots-Tag:noindex
X-PUBLISHED-TTL:PT1H
BEGIN:VTIMEZONE
TZID:America/Chicago
BEGIN:DAYLIGHT
TZOFFSETFROM:-0600
TZOFFSETTO:-0500
TZNAME:CDT
DTSTART:20250309T080000
END:DAYLIGHT
BEGIN:STANDARD
TZOFFSETFROM:-0500
TZOFFSETTO:-0600
TZNAME:CST
DTSTART:20251102T070000
END:STANDARD
BEGIN:DAYLIGHT
TZOFFSETFROM:-0600
TZOFFSETTO:-0500
TZNAME:CDT
DTSTART:20260308T080000
END:DAYLIGHT
BEGIN:STANDARD
TZOFFSETFROM:-0500
TZOFFSETTO:-0600
TZNAME:CST
DTSTART:20261101T070000
END:STANDARD
BEGIN:DAYLIGHT
TZOFFSETFROM:-0600
TZOFFSETTO:-0500
TZNAME:CDT
DTSTART:20270314T080000
END:DAYLIGHT
BEGIN:STANDARD
TZOFFSETFROM:-0500
TZOFFSETTO:-0600
TZNAME:CST
DTSTART:20271107T070000
END:STANDARD
END:VTIMEZONE
BEGIN:VEVENT
DTSTART;TZID=America/Chicago:20260613T130000
DTEND;TZID=America/Chicago:20260613T170000
DTSTAMP:20260421T044342
CREATED:20260420T172151Z
LAST-MODIFIED:20260421T043654Z
UID:239050-1781355600-1781370000@eastendhouston.com
SUMMARY:May 22-  June 27\, 2026 Exhibitions
DESCRIPTION:BOX 13 ArtSpace is pleased to present four new exhibitions opening Friday\, May 22\, 2026 6–9 PM.\nBOX 13 ArtSpace is pleased to present in the Front BOX gallery we show “Scaff(Holding)” by Jordan Vinyard transforms Box 13 Artspace into an absurd choreography of labor hierarchies. Vinyard dissects and sutures through works that are as repulsive as they are endearing. The exhibit in the Back gallery at BOX 13 ArtSpace features “Last Night and Tomorrow” is an exhibit of multi-media prints and installation by Gaby Hurtado-Ramos in the Back BOX gallery. Through layered drawings\, photographs\, and prints\, Hurtado-Ramos explores the multiple outcomes possible in both the physical print process and in scenes of hopefulness longing for a future with a dance floor. In our Window BOX gallery Dario Salvatore Bucheli presents a site-specific painting titled “Transformation Cycle”. The work follows the snake’s mythic journey\, inviting viewers to consider cycles of change\, surrender\, and renewal within their own lives. Moving to our Upstairs BOX gallery we are excited to introduce “Do You Have Papers?” laments those loved and overlooked by systems that fail to value them as people with collecting and mixed-media craft. This exhibition uses archiving as an act of resilience and appreciates immigrant clutter by devoting space to the remnants that illustrate their shared experiences.\nThe exhibitions continue through June 27\,\, 2026. An Opening Reception will be held on Friday May 22\, 2026 6–9 PM at BOX 13 ArtSpace\, 6700 Harrisburg\, Houston\, TX 77011.\nThis event is funded in part by the City of Houston through the Houston Arts Alliance and Houston MOCA. Additional support is provided by The Brown Foundation\, Saint Arnold Brewing Company\, Giant Texas Distillers\, JP Morgan – Nancy O’Connor Fund\, and all who help make our programming possible.
URL:https://eastendhouston.com/event/may-22-june-27-2026-exhibitions-8/
LOCATION:Box 13 ArtSpace\, 6700 Harrisburg Blvd\, Houston\, TX\, United States
CATEGORIES:Experimental,Free Events,Visual Arts + Museums
ATTACH;FMTTYPE=image/png:https://eastendhouston.com/wp-content/uploads/2024/02/this-is-an-awesome-houston-cultural-event-gMeAZ5.tmp_.png
ORGANIZER;CN="BOX 13 ArtSpace":MAILTO:box13artspace@gmail.com
END:VEVENT
END:VCALENDAR