BEGIN:VCALENDAR
VERSION:2.0
PRODID:-//East End Houston - ECPv6.15.20//NONSGML v1.0//EN
CALSCALE:GREGORIAN
METHOD:PUBLISH
X-WR-CALNAME:East End Houston
X-ORIGINAL-URL:https://eastendhouston.com
X-WR-CALDESC:Events for East End Houston
REFRESH-INTERVAL;VALUE=DURATION:PT1H
X-Robots-Tag:noindex
X-PUBLISHED-TTL:PT1H
BEGIN:VTIMEZONE
TZID:America/Chicago
BEGIN:DAYLIGHT
TZOFFSETFROM:-0600
TZOFFSETTO:-0500
TZNAME:CDT
DTSTART:20250309T080000
END:DAYLIGHT
BEGIN:STANDARD
TZOFFSETFROM:-0500
TZOFFSETTO:-0600
TZNAME:CST
DTSTART:20251102T070000
END:STANDARD
BEGIN:DAYLIGHT
TZOFFSETFROM:-0600
TZOFFSETTO:-0500
TZNAME:CDT
DTSTART:20260308T080000
END:DAYLIGHT
BEGIN:STANDARD
TZOFFSETFROM:-0500
TZOFFSETTO:-0600
TZNAME:CST
DTSTART:20261101T070000
END:STANDARD
BEGIN:DAYLIGHT
TZOFFSETFROM:-0600
TZOFFSETTO:-0500
TZNAME:CDT
DTSTART:20270314T080000
END:DAYLIGHT
BEGIN:STANDARD
TZOFFSETFROM:-0500
TZOFFSETTO:-0600
TZNAME:CST
DTSTART:20271107T070000
END:STANDARD
END:VTIMEZONE
BEGIN:VEVENT
DTSTART;TZID=America/Chicago:20260424T193000
DTEND;TZID=America/Chicago:20260424T213000
DTSTAMP:20260424T162409
CREATED:20260424T155145Z
LAST-MODIFIED:20260424T155145Z
UID:239151-1777059000-1777066200@eastendhouston.com
SUMMARY:East End Experimental Festival
DESCRIPTION:E³East End Experimental\nFriday\, April 24 at TBH Center\nSaturday\, April 25 at TBH Center\nSunday\, April 26 at Preston Theater\nFeaturing Guests:\nDaniel Carter (New York)\nEvicshen (California)\nLauren Tosswill (Maine)\nThe Nameless Sound Ensembles\nperforming classic experimental scores by:\nCornelius Cardew\nPauline Oliveros\nJohn Stevens\n– and –\ncommissioned scores by:\nLaura Dykes\nJuan Garcia\nJustin Rodriguez-Jones
URL:https://eastendhouston.com/event/east-end-experimental-festival/
LOCATION:TBH Center (Talento Bilingüe de Houston)\, 333 S Jensen Dr\, Houston\, TX\, United States
CATEGORIES:Experimental Music,Performance Art,Visual Arts + Museums
ORGANIZER;CN="Nameless Sound":MAILTO:info@namelesssound.org
END:VEVENT
BEGIN:VEVENT
DTSTART;TZID=America/Chicago:20260425T193000
DTEND;TZID=America/Chicago:20260425T213000
DTSTAMP:20260424T162409
CREATED:20260424T155145Z
LAST-MODIFIED:20260424T155145Z
UID:239152-1777145400-1777152600@eastendhouston.com
SUMMARY:East End Experimental Festival
DESCRIPTION:E³East End Experimental\nFriday\, April 24 at TBH Center\nSaturday\, April 25 at TBH Center\nSunday\, April 26 at Preston Theater\nFeaturing Guests:\nDaniel Carter (New York)\nEvicshen (California)\nLauren Tosswill (Maine)\nThe Nameless Sound Ensembles\nperforming classic experimental scores by:\nCornelius Cardew\nPauline Oliveros\nJohn Stevens\n– and –\ncommissioned scores by:\nLaura Dykes\nJuan Garcia\nJustin Rodriguez-Jones
URL:https://eastendhouston.com/event/east-end-experimental-festival-2/
LOCATION:TBH Center (Talento Bilingüe de Houston)\, 333 S Jensen Dr\, Houston\, TX\, United States
CATEGORIES:Experimental Music,Performance Art,Visual Arts + Museums
ORGANIZER;CN="Nameless Sound":MAILTO:info@namelesssound.org
END:VEVENT
BEGIN:VEVENT
DTSTART;TZID=America/Chicago:20260426T193000
DTEND;TZID=America/Chicago:20260426T213000
DTSTAMP:20260424T162409
CREATED:20260424T155145Z
LAST-MODIFIED:20260424T155145Z
UID:239153-1777231800-1777239000@eastendhouston.com
SUMMARY:East End Experimental Festival
DESCRIPTION:E³East End Experimental\nFriday\, April 24 at TBH Center\nSaturday\, April 25 at TBH Center\nSunday\, April 26 at Preston Theater\nFeaturing Guests:\nDaniel Carter (New York)\nEvicshen (California)\nLauren Tosswill (Maine)\nThe Nameless Sound Ensembles\nperforming classic experimental scores by:\nCornelius Cardew\nPauline Oliveros\nJohn Stevens\n– and –\ncommissioned scores by:\nLaura Dykes\nJuan Garcia\nJustin Rodriguez-Jones
URL:https://eastendhouston.com/event/east-end-experimental-festival-3/
LOCATION:TBH Center (Talento Bilingüe de Houston)\, 333 S Jensen Dr\, Houston\, TX\, United States
CATEGORIES:Experimental Music,Performance Art,Visual Arts + Museums
ORGANIZER;CN="Nameless Sound":MAILTO:info@namelesssound.org
END:VEVENT
END:VCALENDAR