BEGIN:VCALENDAR
VERSION:2.0
PRODID:-//East End Houston - ECPv6.15.20//NONSGML v1.0//EN
CALSCALE:GREGORIAN
METHOD:PUBLISH
X-ORIGINAL-URL:https://eastendhouston.com
X-WR-CALDESC:Events for East End Houston
REFRESH-INTERVAL;VALUE=DURATION:PT1H
X-Robots-Tag:noindex
X-PUBLISHED-TTL:PT1H
BEGIN:VTIMEZONE
TZID:America/Chicago
BEGIN:DAYLIGHT
TZOFFSETFROM:-0600
TZOFFSETTO:-0500
TZNAME:CDT
DTSTART:20250309T080000
END:DAYLIGHT
BEGIN:STANDARD
TZOFFSETFROM:-0500
TZOFFSETTO:-0600
TZNAME:CST
DTSTART:20251102T070000
END:STANDARD
BEGIN:DAYLIGHT
TZOFFSETFROM:-0600
TZOFFSETTO:-0500
TZNAME:CDT
DTSTART:20260308T080000
END:DAYLIGHT
BEGIN:STANDARD
TZOFFSETFROM:-0500
TZOFFSETTO:-0600
TZNAME:CST
DTSTART:20261101T070000
END:STANDARD
BEGIN:DAYLIGHT
TZOFFSETFROM:-0600
TZOFFSETTO:-0500
TZNAME:CDT
DTSTART:20270314T080000
END:DAYLIGHT
BEGIN:STANDARD
TZOFFSETFROM:-0500
TZOFFSETTO:-0600
TZNAME:CST
DTSTART:20271107T070000
END:STANDARD
END:VTIMEZONE
BEGIN:VEVENT
DTSTART;TZID=America/Chicago:20260109T060000
DTEND;TZID=America/Chicago:20260109T210000
DTSTAMP:20260421T063159
CREATED:20251202T192135Z
LAST-MODIFIED:20260110T025118Z
UID:235664-1767938400-1767992400@eastendhouston.com
SUMMARY:January 9–February 14\, 2026 Exhibitions
DESCRIPTION:January 9\, 2026- February 14\, 2026 Exhibitions\nOpening Reception: Friday\, January 9\, 2026 | 6–9 PM\nGallery hours Saturdays 1-5 PM\nBOX 13 ArtSpace\, 6700 Harrisburg\, Houston\, TX 77011\nFront BOX gallery – Anything but Nothing by AnTIC\, the Anachronistic Transmission Interpreters Commission\nBack Box Gallery – 21st Century Follies by Alexander Squier\nWindow BOX gallery -Seven by Tay Butler\nUpstairs Gallery – Play Pretend by Sara Lam
URL:https://eastendhouston.com/event/january-9-february-14-2026-exhibitions/
LOCATION:Box 13 ArtSpace\, 6700 Harrisburg Blvd\, Houston\, TX\, United States
CATEGORIES:Experimental,Free Events,Visual Arts + Museums
ATTACH;FMTTYPE=image/jpeg:https://eastendhouston.com/wp-content/uploads/2025/12/january-2026-shows-RWqaQp.jpg
ORGANIZER;CN="BOX 13 ArtSpace":MAILTO:box13artspace@gmail.com
END:VEVENT
BEGIN:VEVENT
DTSTART;TZID=America/Chicago:20260109T060000
DTEND;TZID=America/Chicago:20260109T210000
DTSTAMP:20260421T063159
CREATED:20251209T182143Z
LAST-MODIFIED:20251210T003620Z
UID:235865-1767938400-1767992400@eastendhouston.com
SUMMARY:January 9–February 14\, 2026 Exhibitions
DESCRIPTION:January 9\, 2026- February 14\, 2026 Exhibitions\nOpening Reception: Friday\, January 9\, 2026 | 6–9 PM\nGallery hours Saturdays 1-5 PM\nBOX 13 ArtSpace\, 6700 Harrisburg\, Houston\, TX 77011\nFront BOX gallery – Anything but Nothing by AnTIC\, the Anachronistic Transmission Interpreters Commission\nBack Box Gallery – 21st Century Follies by Alexander Squier\nWindow BOX gallery -Seven by Tay Butler\nUpstairs Gallery – Play Pretend by Sara Lam
URL:https://eastendhouston.com/event/january-9-february-14-2026-exhibitions-7/
LOCATION:Box 13 ArtSpace\, 6700 Harrisburg Blvd\, Houston\, TX\, United States
CATEGORIES:Experimental,Free Events,Visual Arts + Museums
ATTACH;FMTTYPE=image/jpeg:https://eastendhouston.com/wp-content/uploads/2025/12/january-2026-shows-RWqaQp.jpg
ORGANIZER;CN="BOX 13 ArtSpace":MAILTO:box13artspace@gmail.com
END:VEVENT
BEGIN:VEVENT
DTSTART;TZID=America/Chicago:20260110T060000
DTEND;TZID=America/Chicago:20260110T210000
DTSTAMP:20260421T063159
CREATED:20251202T192136Z
LAST-MODIFIED:20260111T022123Z
UID:235666-1768024800-1768078800@eastendhouston.com
SUMMARY:January 9–February 14\, 2026 Exhibitions
DESCRIPTION:January 9\, 2026- February 14\, 2026 Exhibitions\nOpening Reception: Friday\, January 9\, 2026 | 6–9 PM\nGallery hours Saturdays 1-5 PM\nBOX 13 ArtSpace\, 6700 Harrisburg\, Houston\, TX 77011\nFront BOX gallery – Anything but Nothing by AnTIC\, the Anachronistic Transmission Interpreters Commission\nBack Box Gallery – 21st Century Follies by Alexander Squier\nWindow BOX gallery -Seven by Tay Butler\nUpstairs Gallery – Play Pretend by Sara Lam
URL:https://eastendhouston.com/event/january-9-february-14-2026-exhibitions-2/
LOCATION:Box 13 ArtSpace\, 6700 Harrisburg Blvd\, Houston\, TX\, United States
CATEGORIES:Experimental,Free Events,Visual Arts + Museums
ATTACH;FMTTYPE=image/jpeg:https://eastendhouston.com/wp-content/uploads/2025/12/january-2026-shows-RWqaQp.jpg
ORGANIZER;CN="BOX 13 ArtSpace":MAILTO:box13artspace@gmail.com
END:VEVENT
BEGIN:VEVENT
DTSTART;TZID=America/Chicago:20260116T060000
DTEND;TZID=America/Chicago:20260116T210000
DTSTAMP:20260421T063159
CREATED:20251202T192136Z
LAST-MODIFIED:20260117T025128Z
UID:235667-1768543200-1768597200@eastendhouston.com
SUMMARY:January 9–February 14\, 2026 Exhibitions
DESCRIPTION:January 9\, 2026- February 14\, 2026 Exhibitions\nOpening Reception: Friday\, January 9\, 2026 | 6–9 PM\nGallery hours Saturdays 1-5 PM\nBOX 13 ArtSpace\, 6700 Harrisburg\, Houston\, TX 77011\nFront BOX gallery – Anything but Nothing by AnTIC\, the Anachronistic Transmission Interpreters Commission\nBack Box Gallery – 21st Century Follies by Alexander Squier\nWindow BOX gallery -Seven by Tay Butler\nUpstairs Gallery – Play Pretend by Sara Lam
URL:https://eastendhouston.com/event/january-9-february-14-2026-exhibitions-3/
LOCATION:Box 13 ArtSpace\, 6700 Harrisburg Blvd\, Houston\, TX\, United States
CATEGORIES:Experimental,Free Events,Visual Arts + Museums
ATTACH;FMTTYPE=image/jpeg:https://eastendhouston.com/wp-content/uploads/2025/12/january-2026-shows-RWqaQp.jpg
ORGANIZER;CN="BOX 13 ArtSpace":MAILTO:box13artspace@gmail.com
END:VEVENT
BEGIN:VEVENT
DTSTART;TZID=America/Chicago:20260117T060000
DTEND;TZID=America/Chicago:20260117T210000
DTSTAMP:20260421T063159
CREATED:20251202T192136Z
LAST-MODIFIED:20260118T022123Z
UID:235668-1768629600-1768683600@eastendhouston.com
SUMMARY:January 9–February 14\, 2026 Exhibitions
DESCRIPTION:January 9\, 2026- February 14\, 2026 Exhibitions\nOpening Reception: Friday\, January 9\, 2026 | 6–9 PM\nGallery hours Saturdays 1-5 PM\nBOX 13 ArtSpace\, 6700 Harrisburg\, Houston\, TX 77011\nFront BOX gallery – Anything but Nothing by AnTIC\, the Anachronistic Transmission Interpreters Commission\nBack Box Gallery – 21st Century Follies by Alexander Squier\nWindow BOX gallery -Seven by Tay Butler\nUpstairs Gallery – Play Pretend by Sara Lam
URL:https://eastendhouston.com/event/january-9-february-14-2026-exhibitions-4/
LOCATION:Box 13 ArtSpace\, 6700 Harrisburg Blvd\, Houston\, TX\, United States
CATEGORIES:Experimental,Free Events,Visual Arts + Museums
ATTACH;FMTTYPE=image/jpeg:https://eastendhouston.com/wp-content/uploads/2025/12/january-2026-shows-RWqaQp.jpg
ORGANIZER;CN="BOX 13 ArtSpace":MAILTO:box13artspace@gmail.com
END:VEVENT
BEGIN:VEVENT
DTSTART;TZID=America/Chicago:20260123T060000
DTEND;TZID=America/Chicago:20260123T210000
DTSTAMP:20260421T063159
CREATED:20251202T192136Z
LAST-MODIFIED:20260124T022158Z
UID:235669-1769148000-1769202000@eastendhouston.com
SUMMARY:January 9–February 14\, 2026 Exhibitions
DESCRIPTION:January 9\, 2026- February 14\, 2026 Exhibitions\nOpening Reception: Friday\, January 9\, 2026 | 6–9 PM\nGallery hours Saturdays 1-5 PM\nBOX 13 ArtSpace\, 6700 Harrisburg\, Houston\, TX 77011\nFront BOX gallery – Anything but Nothing by AnTIC\, the Anachronistic Transmission Interpreters Commission\nBack Box Gallery – 21st Century Follies by Alexander Squier\nWindow BOX gallery -Seven by Tay Butler\nUpstairs Gallery – Play Pretend by Sara Lam
URL:https://eastendhouston.com/event/january-9-february-14-2026-exhibitions-5/
LOCATION:Box 13 ArtSpace\, 6700 Harrisburg Blvd\, Houston\, TX\, United States
CATEGORIES:Experimental,Free Events,Visual Arts + Museums
ATTACH;FMTTYPE=image/jpeg:https://eastendhouston.com/wp-content/uploads/2025/12/january-2026-shows-RWqaQp.jpg
ORGANIZER;CN="BOX 13 ArtSpace":MAILTO:box13artspace@gmail.com
END:VEVENT
BEGIN:VEVENT
DTSTART;TZID=America/Chicago:20260124T060000
DTEND;TZID=America/Chicago:20260124T210000
DTSTAMP:20260421T063159
CREATED:20251202T192137Z
LAST-MODIFIED:20260125T025120Z
UID:235670-1769234400-1769288400@eastendhouston.com
SUMMARY:January 9–February 14\, 2026 Exhibitions
DESCRIPTION:January 9\, 2026- February 14\, 2026 Exhibitions\nOpening Reception: Friday\, January 9\, 2026 | 6–9 PM\nGallery hours Saturdays 1-5 PM\nBOX 13 ArtSpace\, 6700 Harrisburg\, Houston\, TX 77011\nFront BOX gallery – Anything but Nothing by AnTIC\, the Anachronistic Transmission Interpreters Commission\nBack Box Gallery – 21st Century Follies by Alexander Squier\nWindow BOX gallery -Seven by Tay Butler\nUpstairs Gallery – Play Pretend by Sara Lam
URL:https://eastendhouston.com/event/january-9-february-14-2026-exhibitions-6/
LOCATION:Box 13 ArtSpace\, 6700 Harrisburg Blvd\, Houston\, TX\, United States
CATEGORIES:Experimental,Free Events,Visual Arts + Museums
ATTACH;FMTTYPE=image/jpeg:https://eastendhouston.com/wp-content/uploads/2025/12/january-2026-shows-RWqaQp.jpg
ORGANIZER;CN="BOX 13 ArtSpace":MAILTO:box13artspace@gmail.com
END:VEVENT
END:VCALENDAR